BEGIN:VCALENDAR
VERSION:2.0
PRODID:SchoolNow
CALSCALE:GREGORIAN
BEGIN:VEVENT
UID:a0e6e8d2-ce1e-11e7-b436-0a2b08d93e58
DTSTAMP:20201022T211234Z
SUMMARY:Fun Day/Field Day – Minimum Day K-8
URL;VALUE=URI:https://www.ccsmadera.org/calendar/1660527/fun-day-field-day-
 minimum-day-k-8
DTSTART;VALUE=DATE:20210528
DTEND;VALUE=DATE:20210529
END:VEVENT
END:VCALENDAR
