BEGIN:VCALENDAR
VERSION:2.0
PRODID:SchoolNow
CALSCALE:GREGORIAN
BEGIN:VEVENT
UID:06df9e72-2706-11ee-bba6-024120a62113
DTSTAMP:20230720T140213Z
SUMMARY:President's Day Holiday - NO SCHOOL
URL;VALUE=URI:https://www.ccsmadera.org/calendar/4501876/presidents-day-hol
 iday-no-school
DTSTART;VALUE=DATE:20240219
DTEND;VALUE=DATE:20240220
END:VEVENT
END:VCALENDAR
