BEGIN:VCALENDAR
VERSION:2.0
PRODID:SchoolNow
CALSCALE:GREGORIAN
BEGIN:VEVENT
UID:c219e364-32fe-11ef-8d7b-0ea49c5e2509
DTSTAMP:20240625T142523Z
SUMMARY:Parent-Teacher Conferences\, Min Days
URL;VALUE=URI:https://www.ccsmadera.org/calendar/6165437/parent-teacher-con
 ferences-min-days
DTSTART;VALUE=DATE:20241028
DTEND;VALUE=DATE:20241102
END:VEVENT
END:VCALENDAR
