BEGIN:VCALENDAR
VERSION:2.0
PRODID:SchoolNow
CALSCALE:GREGORIAN
BEGIN:VEVENT
UID:2199f356-32b7-11f1-9860-0a58a9feac02
DTSTAMP:20260407T192234Z
SUMMARY:Soccer Practice
URL;VALUE=URI:https://www.ccsmadera.org/calendar/8977689/soccer-practice
DTSTART:20260423T210000Z
DTEND:20260423T220000Z
END:VEVENT
END:VCALENDAR
