BEGIN:VCALENDAR
VERSION:2.0
PRODID:SchoolNow
CALSCALE:GREGORIAN
BEGIN:VEVENT
UID:36515384-32b7-11f1-a4d0-0affd084ed97
DTSTAMP:20260407T192309Z
SUMMARY:Soccer Practice
URL;VALUE=URI:https://www.ccsmadera.org/calendar/8977690/soccer-practice
DTSTART:20260427T210000Z
DTEND:20260427T220000Z
END:VEVENT
END:VCALENDAR
