BEGIN:VCALENDAR
VERSION:2.0
PRODID:SchoolNow
CALSCALE:GREGORIAN
BEGIN:VEVENT
UID:3dbafd96-32b7-11f1-beb5-0afff900871d
DTSTAMP:20260407T192322Z
SUMMARY:Soccer Practice
URL;VALUE=URI:https://www.ccsmadera.org/calendar/8977691/soccer-practice
DTSTART:20260428T210000Z
DTEND:20260428T220000Z
END:VEVENT
END:VCALENDAR
