BEGIN:VCALENDAR
VERSION:2.0
PRODID:SchoolNow
CALSCALE:GREGORIAN
BEGIN:VEVENT
UID:4a5a37d2-345c-11f1-a2ff-0a58a9feac02
DTSTAMP:20260409T213721Z
SUMMARY:Junior High Service Trip to the Madera Rescue Mission
URL;VALUE=URI:https://www.ccsmadera.org/calendar/8982606/junior-high-servic
 e-trip-to-the-madera-rescue-mission
DTSTART;VALUE=DATE:20260428
DTEND;VALUE=DATE:20260429
END:VEVENT
END:VCALENDAR
